2.39999999999999190
0.00000000000000000
0.00000000000000000
-2.39999999999998660
566754.91000000003000000
3957149.85000000010000000
